BEGIN:VCALENDAR
VERSION:2.0
PRODID:-//wp-events-plugin.com//7.2.3.1//EN
TZID:Europe/London
X-WR-TIMEZONE:Europe/London
BEGIN:VEVENT
UID:268@careengland.org.uk
DTSTART;TZID=Europe/London:20250306T083000
DTEND;TZID=Europe/London:20250306T143000
DTSTAMP:20250116T104605Z
URL:https://www.careengland.org.uk/events/caring-uk-conference-2/
SUMMARY:Caring UK Conference
DESCRIPTION:Venue: Webbington Hotel &amp\; Spa \n\nNOW in their 25th year t
 he regional care conferences organised by Caring UK and Script Media conti
 nue to strongly deliver national speakers and exhibitors to local areas fo
 r proprietors\, managers\, financial directors\, individuals working withi
 n purchasing departments\, senior nursing staff of care homes\, nursing ho
 mes\, dual registered homes\, retirement villages\, ancillary care organis
 ations and domiciliary care agencies who work in the independent elderly c
 are sector.\n\nThe 2025 programme will include all aspects of healthcare t
 o the elderly and will be themed ‘Navigate your way to Outstanding’ to
  assist growing businesses to accommodate the impending forecast of reside
 nt requirements while continuing to provide outstanding quality of care.\n
 \nOur conferences are half-day events\, with seven in total planned for 20
 25\, starting at 8.30am and finishing no later than 2.30pm.\n\nBook your p
 lace\n\nOur stellar line-up of speakers offers expert advice on a wide var
 iety of topics to enhance the quality of life that residents deserve\, and
  how businesses can stand out from their rivals to potential residents.\n\
 nRunning alongside all of the conferences is an extensive exhibition\, whi
 ch will showcase all the latest products\, innovation\, services and techn
 ology for care providers
ATTACH;FMTTYPE=image/jpeg:https://www.careengland.org.uk/wp-content/upload
 s/2024/12/vu.png
CATEGORIES:Other Organisers
END:VEVENT
BEGIN:VTIMEZONE
TZID:Europe/London
X-LIC-LOCATION:Europe/London
BEGIN:STANDARD
DTSTART:20241027T010000
TZOFFSETFROM:+0100
TZOFFSETTO:+0000
TZNAME:GMT
END:STANDARD
END:VTIMEZONE
END:VCALENDAR