BEGIN:VCALENDAR
VERSION:2.0
PRODID:-//wp-events-plugin.com//7.2.3.1//EN
TZID:Europe/London
X-WR-TIMEZONE:Europe/London
BEGIN:VEVENT
UID:271@careengland.org.uk
DTSTART;TZID=Europe/London:20251021T083000
DTEND;TZID=Europe/London:20251021T143000
DTSTAMP:20250116T105119Z
URL:https://www.careengland.org.uk/events/caring-uk-conference-5/
SUMMARY:Caring UK Conference
DESCRIPTION:Venue: Dunkenhalgh Hotel &amp\;Spa\, Blackburn\n\nNOW in their
  25th year the regional care conferences organised by Caring UK and Script
  Media continue to strongly deliver national speakers and exhibitors to lo
 cal areas for proprietors\, managers\, financial directors\, individuals w
 orking within purchasing departments\, senior nursing staff of care homes\
 , nursing homes\, dual registered homes\, retirement villages\, ancillary 
 care organisations and domiciliary care agencies who work in the independe
 nt elderly care sector.\n\nThe 2025 programme will include all aspects of 
 healthcare to the elderly and will be themed ‘Navigate your way to Outst
 anding’ to assist growing businesses to accommodate the impending foreca
 st of resident requirements while continuing to provide outstanding qualit
 y of care.\n\nOur conferences are half-day events\, with seven in total pl
 anned for 2025\, starting at 8.30am and finishing no later than 2.30pm.\n\
 nBook your place\n\nOur stellar line-up of speakers offers expert advice o
 n a wide variety of topics to enhance the quality of life that residents d
 eserve\, and how businesses can stand out from their rivals to potential r
 esidents.\n\nRunning alongside all of the conferences is an extensive exhi
 bition\, which will showcase all the latest products\, innovation\, servic
 es and technology for care providers
ATTACH;FMTTYPE=image/jpeg:https://www.careengland.org.uk/wp-content/upload
 s/2024/12/vu.png
CATEGORIES:Other Organisers
END:VEVENT
BEGIN:VTIMEZONE
TZID:Europe/London
X-LIC-LOCATION:Europe/London
BEGIN:DAYLIGHT
DTSTART:20250330T020000
TZOFFSETFROM:+0000
TZOFFSETTO:+0100
TZNAME:BST
END:DAYLIGHT
END:VTIMEZONE
END:VCALENDAR