BEGIN:VCALENDAR
VERSION:2.0
PRODID:-//wp-events-plugin.com//7.2.3.1//EN
TZID:Europe/London
X-WR-TIMEZONE:Europe/London
BEGIN:VEVENT
UID:283@careengland.org.uk
DTSTART;TZID=Europe/London:20250304T140000
DTEND;TZID=Europe/London:20250304T150000
DTSTAMP:20250310T165625Z
URL:https://www.careengland.org.uk/events/cornerstone-care-quality-and-gov
 ernance-webinar/
SUMMARY:Cornerstone Care - Quality and Governance Webinar
DESCRIPTION:Transforming Services for Success: Preventing and Overcoming Ch
 allenges through enhanced Quality and Governance\nThis webinar supported b
 uilding a resilient\, high-performing service that thrives even in challen
 ging circumstances offering practical strategies to proactively prevent un
 derperformance or to support turn around of struggling operations. This we
 binar is designed for leaders\, managers\, and professionals who are deter
 mined to drive sustainable improvements and deliver excellence in health a
 nd social care.\n\nIn today’s demanding environment\, services must bala
 nce quality\, financial performance\, and governance while navigating incr
 easing scrutiny from regulators and stakeholders. Without the right strate
 gies\, even the most dedicated organisations can face difficulties that af
 fect staff morale\, service users\, and outcomes.\n\nThis webinar will equ
 ip you with the tools and insights to prevent failures and transform under
 performing services. You will learn how to:\n\n 	Identify and Address Chal
 lenges Early: Recognise the warning signs and take decisive action to addr
 ess root causes.\n 	Strengthen Governance and Risk Management: Develop rob
 ust frameworks to ensure compliance\, accountability\, and risk mitigation
 .\n 	Leverage Digital Social Care Records (DSCRs): Harness technology to s
 treamline processes\, enhance care delivery\, and enable data-driven decis
 ions.\n 	Achieve Sustainable Quality and Financial Improvements: Balance i
 mmediate recovery efforts with strategies for long-term success.\n\nThis s
 ession features real-world case studies\, expert advice\, and actionable s
 teps to help you build a proactive\, high-performing organisation that not
  only meets but exceeds expectations.\n\nA copy of the recording is below 
 and the slides are HERE and the full white paper report can be reviewed HE
 RE.\n\nhttps://youtu.be/-cYSDl0nC2g\n\nFor enquiries\, please contact the 
 presenters directly:\n\n 	Lucy Corner: lucy.corner@cornerstonecare.co.uk\n
  	Charlie Light: charlie.light@cornerstonecare.co.uk\n\n&nbsp\;
ATTACH;FMTTYPE=image/jpeg:https://www.careengland.org.uk/wp-content/upload
 s/2025/01/Cornerstone-Care.png
CATEGORIES:Care England,Care England Members,Non members
END:VEVENT
BEGIN:VTIMEZONE
TZID:Europe/London
X-LIC-LOCATION:Europe/London
BEGIN:STANDARD
DTSTART:20241027T010000
TZOFFSETFROM:+0100
TZOFFSETTO:+0000
TZNAME:GMT
END:STANDARD
END:VTIMEZONE
END:VCALENDAR