BEGIN:VCALENDAR
VERSION:2.0
PRODID:-//wp-events-plugin.com//7.2.3.1//EN
TZID:Europe/London
X-WR-TIMEZONE:Europe/London
BEGIN:VEVENT
UID:447@careengland.org.uk
DTSTART;TZID=Europe/London:20260310T110000
DTEND;TZID=Europe/London:20260310T120000
DTSTAMP:20260401T091230Z
URL:https://www.careengland.org.uk/events/discover-cyber-path-free-cyber-r
 esilience-services-for-the-care-sector/
SUMMARY:Series 2\, Webinar 2 - Discover Cyber PATH Free Cyber Resilience Se
 rvices for the Care Sector
DESCRIPTION:&nbsp\;\n\n\nA recording of the webinar can reviewed below\, an
 d a copy of the slides can be found HERE.\n\nhttps://youtu.be/iqIwHMOcKo4\
 n\n&nbsp\;\n\nYou don’t need to be a tech expert to make your care servi
 ce safer from cyber threats - and you don’t have to do it alone. This se
 ssion was part 2 of the CRC Network Care Cyber Series\, delivered in partn
 ership with Care Providers Alliance and Care England.\nThis webinar introd
 uced the fully-funded Cyber PATH programme\, delivered through the Cyber R
 esilience Centre Network\, which gave care providers fully funded professi
 onal support to help improve their organisation’s cyber resilience. Serv
 ices included vulnerability checks\, staff training\, and Microsoft 354 re
 views\, all explained in plain\, easy-to-understand language.\nWhether att
 endees were preparing for Cyber Essentials accreditation\, meeting commiss
 ioner requirements\, or simply wanted to better protect residents\, staff\
 , and data\, the session showed the support available and how to access it
 .\nWhat the session covered\n\n\n 	Everyday cyber risks in care settings\,
  simple examples of threats services could face\n 	An overview of fully-fu
 nded Cyber PATH services available to care providers\n 	Case study: How Do
 rothy Parkes Centre strengthened their cyber resilience using Cyber PATH s
 ervices\n 	How to book free Cyber PATH support and what to expect\n\n\n\nW
 ho attended\nAnyone working in residential and domiciliary care settings a
 ttended\, including care home owners\, registered managers\, senior leader
 s\, governance leads\, frontline staff and those responsible for safeguard
 ing.\nNo technical knowledge was required\, the session was designed to be
  accessible and practical for all.\n\n\n\nAbout The CRC Network\nThe Cyber
  Resilience Centre Network (CRC Network) is a police-led organisation esta
 blished to help small and medium organisations protect themselves from cyb
 er crime. Working with law enforcement\, industry partners and academia\, 
 it provides fully-funded guidance\, tools and services to improve cyber re
 silience across England and Wales.\n\n\n\nCRC Network Care Cyber Series - 
 Host Centre\nThe team from Cyber Resilience Centre for the East delivered 
 the Care Cyber Series on behalf of the CRC Network. Regardless of where th
 eir care sector business operated\, participants were invited to join the 
 series to learn about practical tools\, real-world examples and free resou
 rces available to help keep organisations\, staff and service users safe.\
 n&nbsp\;\nUpcoming sessions\n\n 	23rd March 12-1pm - Preparing for a Cyber
  Incident: Tools and Tips for the Care Sector\n\n\n\n\n
ATTACH;FMTTYPE=image/jpeg:https://www.careengland.org.uk/wp-content/upload
 s/2026/01/Events-page-2.jpg
CATEGORIES:Care England,Care England Members,Non members
END:VEVENT
BEGIN:VTIMEZONE
TZID:Europe/London
X-LIC-LOCATION:Europe/London
BEGIN:STANDARD
DTSTART:20251026T010000
TZOFFSETFROM:+0100
TZOFFSETTO:+0000
TZNAME:GMT
END:STANDARD
END:VTIMEZONE
END:VCALENDAR