BEGIN:VCALENDAR
VERSION:2.0
PRODID:-//wp-events-plugin.com//7.2.3.1//EN
TZID:Europe/London
X-WR-TIMEZONE:Europe/London
BEGIN:VEVENT
UID:416@careengland.org.uk
DTSTART;TZID=Europe/London:20251119T140000
DTEND;TZID=Europe/London:20251119T150000
DTSTAMP:20251103T163345Z
URL:https://www.careengland.org.uk/events/safeguarding-in-the-community-me
 ntal-capacity/
SUMMARY:Safeguarding in the community: Mental capacity
DESCRIPTION:\n\nAnthony Collins will be joined by The Social Care Institute
  for Excellence (SCIE) to explore mental capacity\, refreshing on key pri
 nciples and beginning to delve into more complex\, real-life scenarios\, s
 uch as how to respond when an individual repeatedly makes decisions that m
 ay increase potential risks despite advice and support.
ATTACH;FMTTYPE=image/jpeg:https://www.careengland.org.uk/wp-content/upload
 s/2025/11/Screenshot-2025-11-03-163314.png
CATEGORIES:Care England,Care England Members,Non members
END:VEVENT
BEGIN:VTIMEZONE
TZID:Europe/London
X-LIC-LOCATION:Europe/London
BEGIN:STANDARD
DTSTART:20251026T010000
TZOFFSETFROM:+0100
TZOFFSETTO:+0000
TZNAME:GMT
END:STANDARD
END:VTIMEZONE
END:VCALENDAR