BEGIN:VCALENDAR
VERSION:2.0
PRODID:-//wp-events-plugin.com//7.2.3.1//EN
TZID:Europe/London
X-WR-TIMEZONE:Europe/London
BEGIN:VEVENT
UID:358@careengland.org.uk
DTSTART;TZID=Europe/London:20250930T090000
DTEND;TZID=Europe/London:20250930T153000
DTSTAMP:20250728T153016Z
URL:https://www.careengland.org.uk/events/the-future-of-social-care-powere
 d-by-technology/
SUMMARY:The Future of Social Care: Powered by Technology Enabled Care\, Dri
 ven by People
DESCRIPTION:\n\nJoin us for The Future of Social Care: Powered by Technolog
 y Enabled Care\, Driven by People\, a dynamic event designed to take atten
 dees on a practical journey through the transformative potential of Techno
 logy Enabled Care.\n\nExplore compelling case studies\, best practices in 
 AI\, and effective strategies for integrating TEC across social care setti
 ngs.\n\nDive into sessions on care planning\, delivery and TEC optimisatio
 n\, hear provider insights\, and consider how to build a strong business c
 ase.\n\nDiscover the breadth of available technologies and experience our 
 Innovation Showcase\, highlighting cutting-edge solutions shaping the futu
 re of care.\n\nThis event empowers professionals to deliver smarter\, more
  responsive\, and person-centred care through technological innovation.\n\
 n&nbsp\;
ATTACH;FMTTYPE=image/jpeg:https://www.careengland.org.uk/wp-content/upload
 s/2025/07/Derby-2025-1600-x-900-px-1.png
CATEGORIES:Care England,Other Organisers
END:VEVENT
BEGIN:VTIMEZONE
TZID:Europe/London
X-LIC-LOCATION:Europe/London
BEGIN:DAYLIGHT
DTSTART:20250330T020000
TZOFFSETFROM:+0000
TZOFFSETTO:+0100
TZNAME:BST
END:DAYLIGHT
END:VTIMEZONE
END:VCALENDAR